BEGIN:VCALENDAR
VERSION:2.0
PRODID:-//Bobkatquilts.com - ECPv6.15.20//NONSGML v1.0//EN
CALSCALE:GREGORIAN
METHOD:PUBLISH
X-ORIGINAL-URL:https://bobkatquilts.com
X-WR-CALDESC:Events for Bobkatquilts.com
REFRESH-INTERVAL;VALUE=DURATION:PT1H
X-Robots-Tag:noindex
X-PUBLISHED-TTL:PT1H
BEGIN:VTIMEZONE
TZID:America/Halifax
BEGIN:DAYLIGHT
TZOFFSETFROM:-0400
TZOFFSETTO:-0300
TZNAME:ADT
DTSTART:20170312T060000
END:DAYLIGHT
BEGIN:STANDARD
TZOFFSETFROM:-0300
TZOFFSETTO:-0400
TZNAME:AST
DTSTART:20171105T050000
END:STANDARD
BEGIN:DAYLIGHT
TZOFFSETFROM:-0400
TZOFFSETTO:-0300
TZNAME:ADT
DTSTART:20180311T060000
END:DAYLIGHT
BEGIN:STANDARD
TZOFFSETFROM:-0300
TZOFFSETTO:-0400
TZNAME:AST
DTSTART:20181104T050000
END:STANDARD
BEGIN:DAYLIGHT
TZOFFSETFROM:-0400
TZOFFSETTO:-0300
TZNAME:ADT
DTSTART:20190310T060000
END:DAYLIGHT
BEGIN:STANDARD
TZOFFSETFROM:-0300
TZOFFSETTO:-0400
TZNAME:AST
DTSTART:20191103T050000
END:STANDARD
END:VTIMEZONE
BEGIN:VEVENT
DTSTART;TZID=America/Halifax:20180317T080000
DTEND;TZID=America/Halifax:20180317T120000
DTSTAMP:20260422T071748
CREATED:20180224T152725Z
LAST-MODIFIED:20180317T173939Z
UID:10000042-1521273600-1521288000@bobkatquilts.com
SUMMARY:Wave Ruler Demonstration at Ann Arbor Quilt Guild Meeting
DESCRIPTION:Before and after the Greater Ann Arbor Quilt Guild meeting I will demonstrate the Creative Grids Wave Ruler — how you can add a very fun sashing to your quilts!  No more straight lines — add some movement with this great tool! \nDemo’s are free — but there may be a charge to participate in their meeting which hosts quiltmaker Jane Davila.
URL:https://bobkatquilts.com/event/wave-ruler-demonstration-at-ann-arbor-quilt-guild-meeting/
LOCATION:Washtenaw Community College\, 4800 E Huron River Dr\, Ann Arbor\, MI\, 48105\, United States
ATTACH;FMTTYPE=image/jpeg:https://bobkatquilts.com/wp-content/uploads/2018/02/551baf22a37c61e5b2a192f492bc4420.jpg
GEO:42.2628413;-83.6642584
X-APPLE-STRUCTURED-LOCATION;VALUE=URI;X-ADDRESS=Washtenaw Community College 4800 E Huron River Dr Ann Arbor MI 48105 United States;X-APPLE-RADIUS=500;X-TITLE=4800 E Huron River Dr:geo:-83.6642584,42.2628413
END:VEVENT
END:VCALENDAR