BEGIN:VCALENDAR
VERSION:2.0
PRODID:-//Bobkatquilts.com - ECPv6.15.20//NONSGML v1.0//EN
CALSCALE:GREGORIAN
METHOD:PUBLISH
X-ORIGINAL-URL:https://bobkatquilts.com
X-WR-CALDESC:Events for Bobkatquilts.com
REFRESH-INTERVAL;VALUE=DURATION:PT1H
X-Robots-Tag:noindex
X-PUBLISHED-TTL:PT1H
BEGIN:VTIMEZONE
TZID:America/Chicago
BEGIN:DAYLIGHT
TZOFFSETFROM:-0600
TZOFFSETTO:-0500
TZNAME:CDT
DTSTART:20200308T080000
END:DAYLIGHT
BEGIN:STANDARD
TZOFFSETFROM:-0500
TZOFFSETTO:-0600
TZNAME:CST
DTSTART:20201101T070000
END:STANDARD
BEGIN:DAYLIGHT
TZOFFSETFROM:-0600
TZOFFSETTO:-0500
TZNAME:CDT
DTSTART:20210314T080000
END:DAYLIGHT
BEGIN:STANDARD
TZOFFSETFROM:-0500
TZOFFSETTO:-0600
TZNAME:CST
DTSTART:20211107T070000
END:STANDARD
BEGIN:DAYLIGHT
TZOFFSETFROM:-0600
TZOFFSETTO:-0500
TZNAME:CDT
DTSTART:20220313T080000
END:DAYLIGHT
BEGIN:STANDARD
TZOFFSETFROM:-0500
TZOFFSETTO:-0600
TZNAME:CST
DTSTART:20221106T070000
END:STANDARD
END:VTIMEZONE
BEGIN:VEVENT
DTSTART;TZID=America/Chicago:20210109T100000
DTEND;TZID=America/Chicago:20210109T120000
DTSTAMP:20260421T031118
CREATED:20200915T185442Z
LAST-MODIFIED:20201126T225952Z
UID:10000051-1610186400-1610193600@bobkatquilts.com
SUMMARY:Quiltworx Lone Star Diamond Quilts -  Zoom Class
DESCRIPTION:Join me and create your first quilt of 2021 — a beautiful Quiltworx Lone Star based quilt. \nYou will be amazed at how quickly these Lone Stars come together!  Purchase your fabrics new — or use this as a great Stash-Busting project as the Lone Star units are built using strips! \nThis is a Zoom class!  \nAvoid loading your machine and supplies in the cold and snow…  attend from the comfort of your own sewing studio.  All sessions are recorded and you can review them over and over so you won’t miss a thing! \nChoose one of the following Quiltworx patterns: \n\nDiamonds in Bloom\nIce Castles\nPrismatic Star Queen\nTattered Star\nZen Garden\n\nThese are great patterns that you can personalize with some really creative color placement – check out the variations in this short video \nClass will meet virtually on the following dates (but if you can’t make one or more — you can always watch the recorded session!) \nSaturday\, January 9  — 10:00 AM – Noon — Getting Started (preparing your strips\, gathering your materials\, understanding the pattern) \nSaturday\, January 16 – 10:00 AM – Noon — Sewing the Lone Star Units \nSaturday\, January 23 – 10:00 AM – Noon —  Sewing the remaining pieces of your quilt \nSaturday\, February 6 – 10:00 AM – Noon — Assembling your quilt \nYour registration fee of $130 includes all instruction (live and recorded) as well as the pattern of your choice. \n \n \n  \n  \n  \n  \n  \n  \n  \n  \nDiamonds in Bloom – (100″ x 100″) \nIce Castles – (100″ x 100″) \nPrismatic Star Queen – (91″ x 91″) \nTattered Star – (91″ x 91″) \nZen Garden – (80″ x 80″) \n  \n  \n\nA Special Option\nThese lone star based quilts are a lot of fun\, but planning your color placement can be a little mind boggling.   Simplify your planning and fabric shopping  for this project.  Purchase our $25  Quiltster Consultation and I’ll help you visualize up to three options with your color choices and fabrics.  We can start with your stash or your favorite colors and fabrics.  The process  will generate a color print-out of your design and will give you a detailed shopping list for your favorite shop or  I can connect you with a Certified Quiltworx Shop who will use your customized Quiltster report to assemble your personalized fabric kit.   This Quiltster Consultation is a separate purchase from our store.  We will schedule a one hour appointment for your consultation ideally at least 1 month before Class 1.  \n 
URL:https://bobkatquilts.com/event/quiltworx-lone-star-quilts-zoom-class/
LOCATION:Holland America\, Noordam\, Smith Cove Cruise Terminal at Pier 91\, 2001 West Garfield Street\, Seattle\, 98119\, United States
CATEGORIES:Multi-Day,Online,Workshop
ATTACH;FMTTYPE=image/jpeg:https://bobkatquilts.com/wp-content/uploads/2020/09/Pattern-Options-scaled.jpg
GEO:47.6332915;-122.3796514
X-APPLE-STRUCTURED-LOCATION;VALUE=URI;X-ADDRESS=Holland America Noordam Smith Cove Cruise Terminal at Pier 91 2001 West Garfield Street Seattle 98119 United States;X-APPLE-RADIUS=500;X-TITLE=Smith Cove Cruise Terminal at Pier 91\, 2001 West Garfield Street:geo:-122.3796514,47.6332915
END:VEVENT
END:VCALENDAR