BEGIN:VCALENDAR
VERSION:2.0
PRODID:-//Bobkatquilts.com - ECPv6.15.20//NONSGML v1.0//EN
CALSCALE:GREGORIAN
METHOD:PUBLISH
X-ORIGINAL-URL:https://bobkatquilts.com
X-WR-CALDESC:Events for Bobkatquilts.com
REFRESH-INTERVAL;VALUE=DURATION:PT1H
X-Robots-Tag:noindex
X-PUBLISHED-TTL:PT1H
BEGIN:VTIMEZONE
TZID:America/Detroit
BEGIN:DAYLIGHT
TZOFFSETFROM:-0500
TZOFFSETTO:-0400
TZNAME:EDT
DTSTART:20180311T070000
END:DAYLIGHT
BEGIN:STANDARD
TZOFFSETFROM:-0400
TZOFFSETTO:-0500
TZNAME:EST
DTSTART:20181104T060000
END:STANDARD
BEGIN:DAYLIGHT
TZOFFSETFROM:-0500
TZOFFSETTO:-0400
TZNAME:EDT
DTSTART:20190310T070000
END:DAYLIGHT
BEGIN:STANDARD
TZOFFSETFROM:-0400
TZOFFSETTO:-0500
TZNAME:EST
DTSTART:20191103T060000
END:STANDARD
BEGIN:DAYLIGHT
TZOFFSETFROM:-0500
TZOFFSETTO:-0400
TZNAME:EDT
DTSTART:20200308T070000
END:DAYLIGHT
BEGIN:STANDARD
TZOFFSETFROM:-0400
TZOFFSETTO:-0500
TZNAME:EST
DTSTART:20201101T060000
END:STANDARD
END:VTIMEZONE
BEGIN:VEVENT
DTSTART;TZID=America/Detroit:20191213T100000
DTEND;TZID=America/Detroit:20191213T163000
DTSTAMP:20260421T055412
CREATED:20190731T223852Z
LAST-MODIFIED:20190810T014226Z
UID:10000032-1576231200-1576254600@bobkatquilts.com
SUMMARY:Judy... Judy... Judy - Quiltworx Open Sewing Day
DESCRIPTION:Join me to work on\, start or finish the Quiltworx pattern of your choice! \nAs a Certified Instructor — even if I haven’t made your quilt — I can help you move forward! \nWanna start a new one?  I can help with that\, too! \nAny general paper piecing pattern projects are welcome! \nJoin me at The Stitching Studio between 10:00 AM – 4:30 PM \n 
URL:https://bobkatquilts.com/event/judy-judy-judy-quiltworx-open-sewing-day/
LOCATION:The Stitching Studio\, 12325 Hydemeadow Dr.\, Austin\, TX\, 78750\, United States
CATEGORIES:Workday
ATTACH;FMTTYPE=image/jpeg:https://bobkatquilts.com/wp-content/uploads/2019/07/Certified-Instructor_Rectangle.jpg
GEO:30.4546041;-97.796479
X-APPLE-STRUCTURED-LOCATION;VALUE=URI;X-ADDRESS=The Stitching Studio 12325 Hydemeadow Dr. Austin TX 78750 United States;X-APPLE-RADIUS=500;X-TITLE=12325 Hydemeadow Dr.:geo:-97.796479,30.4546041
END:VEVENT
END:VCALENDAR