BEGIN:VCALENDAR
VERSION:2.0
PRODID:-//Bobkatquilts.com - ECPv6.15.20//NONSGML v1.0//EN
CALSCALE:GREGORIAN
METHOD:PUBLISH
X-ORIGINAL-URL:https://bobkatquilts.com
X-WR-CALDESC:Events for Bobkatquilts.com
REFRESH-INTERVAL;VALUE=DURATION:PT1H
X-Robots-Tag:noindex
X-PUBLISHED-TTL:PT1H
BEGIN:VTIMEZONE
TZID:America/Chicago
BEGIN:DAYLIGHT
TZOFFSETFROM:-0600
TZOFFSETTO:-0500
TZNAME:CDT
DTSTART:20220313T080000
END:DAYLIGHT
BEGIN:STANDARD
TZOFFSETFROM:-0500
TZOFFSETTO:-0600
TZNAME:CST
DTSTART:20221106T070000
END:STANDARD
BEGIN:DAYLIGHT
TZOFFSETFROM:-0600
TZOFFSETTO:-0500
TZNAME:CDT
DTSTART:20230312T080000
END:DAYLIGHT
BEGIN:STANDARD
TZOFFSETFROM:-0500
TZOFFSETTO:-0600
TZNAME:CST
DTSTART:20231105T070000
END:STANDARD
BEGIN:DAYLIGHT
TZOFFSETFROM:-0600
TZOFFSETTO:-0500
TZNAME:CDT
DTSTART:20240310T080000
END:DAYLIGHT
BEGIN:STANDARD
TZOFFSETFROM:-0500
TZOFFSETTO:-0600
TZNAME:CST
DTSTART:20241103T070000
END:STANDARD
END:VTIMEZONE
BEGIN:VEVENT
DTSTART;TZID=America/Chicago:20230505T170000
DTEND;TZID=America/Chicago:20230505T203000
DTSTAMP:20260421T101220
CREATED:20230505T184621Z
LAST-MODIFIED:20230505T194822Z
UID:10000151-1683306000-1683318600@bobkatquilts.com
SUMMARY:Goodnight Star - In Person - Honeybee Quilts\, Austin Texas
DESCRIPTION:One of Judy’s newer patterns\, The Goodnight Star is a LONE STAR based quilt.  Finishing at 96″ x 96″\, it goes together far faster than you can imagine. \nUse a Quiltworx Strip Set (you’ll need to add one more 2 1/2″ strip to each color group)\, add your background fabrics and you are good to go! \nClasses meet Tuesday evenings at Honey Bee Quilts in North Austin.  Evenings from 5:00 PM – 8:30 PM.  Lots of time between sessions to “get your homework done”!  😉 \n\nJune 6th\nJune 20th\nJuly 18th\n\nMore information and register here with the HONEY BEE QUILT STORE:
URL:https://bobkatquilts.com/event/goodnight-star-in-person-honeybee-quilts-austin-texas/
LOCATION:Honey Bee Quilts\, Austin\, Texas\, 9308 Anderson Mill Rd #300\, Austin\, TX\, 78729\, United States
CATEGORIES:Multi-Day,Workshop
ATTACH;FMTTYPE=image/jpeg:https://bobkatquilts.com/wp-content/uploads/2022/10/Goodnight-Star-2.jpg
GEO:30.451299;-97.784111
X-APPLE-STRUCTURED-LOCATION;VALUE=URI;X-ADDRESS=Honey Bee Quilts Austin Texas 9308 Anderson Mill Rd #300 Austin TX 78729 United States;X-APPLE-RADIUS=500;X-TITLE=9308 Anderson Mill Rd #300:geo:-97.784111,30.451299
END:VEVENT
END:VCALENDAR