BEGIN:VCALENDAR
VERSION:2.0
PRODID:-//Bobkatquilts.com - ECPv6.15.20//NONSGML v1.0//EN
CALSCALE:GREGORIAN
METHOD:PUBLISH
X-ORIGINAL-URL:https://bobkatquilts.com
X-WR-CALDESC:Events for Bobkatquilts.com
REFRESH-INTERVAL;VALUE=DURATION:PT1H
X-Robots-Tag:noindex
X-PUBLISHED-TTL:PT1H
BEGIN:VTIMEZONE
TZID:America/Chicago
BEGIN:DAYLIGHT
TZOFFSETFROM:-0600
TZOFFSETTO:-0500
TZNAME:CDT
DTSTART:20180311T080000
END:DAYLIGHT
BEGIN:STANDARD
TZOFFSETFROM:-0500
TZOFFSETTO:-0600
TZNAME:CST
DTSTART:20181104T070000
END:STANDARD
BEGIN:DAYLIGHT
TZOFFSETFROM:-0600
TZOFFSETTO:-0500
TZNAME:CDT
DTSTART:20190310T080000
END:DAYLIGHT
BEGIN:STANDARD
TZOFFSETFROM:-0500
TZOFFSETTO:-0600
TZNAME:CST
DTSTART:20191103T070000
END:STANDARD
BEGIN:DAYLIGHT
TZOFFSETFROM:-0600
TZOFFSETTO:-0500
TZNAME:CDT
DTSTART:20200308T080000
END:DAYLIGHT
BEGIN:STANDARD
TZOFFSETFROM:-0500
TZOFFSETTO:-0600
TZNAME:CST
DTSTART:20201101T070000
END:STANDARD
BEGIN:DAYLIGHT
TZOFFSETFROM:-0600
TZOFFSETTO:-0500
TZNAME:CDT
DTSTART:20210314T080000
END:DAYLIGHT
BEGIN:STANDARD
TZOFFSETFROM:-0500
TZOFFSETTO:-0600
TZNAME:CST
DTSTART:20211107T070000
END:STANDARD
BEGIN:DAYLIGHT
TZOFFSETFROM:-0600
TZOFFSETTO:-0500
TZNAME:CDT
DTSTART:20220313T080000
END:DAYLIGHT
BEGIN:STANDARD
TZOFFSETFROM:-0500
TZOFFSETTO:-0600
TZNAME:CST
DTSTART:20221106T070000
END:STANDARD
BEGIN:DAYLIGHT
TZOFFSETFROM:-0600
TZOFFSETTO:-0500
TZNAME:CDT
DTSTART:20230312T080000
END:DAYLIGHT
BEGIN:STANDARD
TZOFFSETFROM:-0500
TZOFFSETTO:-0600
TZNAME:CST
DTSTART:20231105T070000
END:STANDARD
END:VTIMEZONE
BEGIN:VTIMEZONE
TZID:America/Detroit
BEGIN:DAYLIGHT
TZOFFSETFROM:-0500
TZOFFSETTO:-0400
TZNAME:EDT
DTSTART:20180311T070000
END:DAYLIGHT
BEGIN:STANDARD
TZOFFSETFROM:-0400
TZOFFSETTO:-0500
TZNAME:EST
DTSTART:20181104T060000
END:STANDARD
BEGIN:DAYLIGHT
TZOFFSETFROM:-0500
TZOFFSETTO:-0400
TZNAME:EDT
DTSTART:20190310T070000
END:DAYLIGHT
BEGIN:STANDARD
TZOFFSETFROM:-0400
TZOFFSETTO:-0500
TZNAME:EST
DTSTART:20191103T060000
END:STANDARD
BEGIN:DAYLIGHT
TZOFFSETFROM:-0500
TZOFFSETTO:-0400
TZNAME:EDT
DTSTART:20200308T070000
END:DAYLIGHT
BEGIN:STANDARD
TZOFFSETFROM:-0400
TZOFFSETTO:-0500
TZNAME:EST
DTSTART:20201101T060000
END:STANDARD
END:VTIMEZONE
BEGIN:VEVENT
DTSTART;TZID=America/Chicago:20220710T130000
DTEND;TZID=America/Chicago:20220710T143000
DTSTAMP:20260421T142336
CREATED:20220212T222846Z
LAST-MODIFIED:20220528T163215Z
UID:10000080-1657458000-1657463400@bobkatquilts.com
SUMMARY:Boughs of Holly Zoom Class
DESCRIPTION:Join me and let’s make one of Quiltworx’s newest (and prettiest) patterns yet! \nFinishing at 99″ x 99″ — you’ll want it on your bed this holiday season! \nNewly released in early 2022 — you can be sure that many of the Certified Shops will be offering fabric kits\, or design your own (with or without my help!) in Quiltster.  You can watch for it to be added very soon! \nClass will meet on Friday mornings  after our Sunday information session — but because every class is recorded — if that doesn’t work for you\, watch when it is convenient and if you have questions\, I’m only an email away!  And additional pre-recorded demo videos will be available\, too! \nThis is a beautiful quilt with lots of Quiltworx techniques to help you go from start to finish!  Let me help you master those techniques as you create another (or your 1st!  YIKES! LOL) Quiltworx heirloom quilt. \nAll times are CENTRAL.  Classes may run longer than scheduled. \nSunday\, July 10 – 1:00 pm  – 2:30 pm — general information session (no sewing) \nFriday\, July 15 – 10:00 am – 12:30 pm \nFriday\, Augut 5 – 10:00 am – 12:30 pm \nFriday\, August 19 – 10:00 am – 12:30 pm \nFriday\, September 16 – 10:00 am – 12:30 pm \nPlease Note:  Class fee includes pattern at a significant discount.   This a is a great value!   Already have the pattern and want to join us for this class?   Check out the instruction only option under tickets below! 
URL:https://bobkatquilts.com/event/boughs-of-holly-zoom-class/
LOCATION:Holland America\, Noordam\, Smith Cove Cruise Terminal at Pier 91\, 2001 West Garfield Street\, Seattle\, 98119\, United States
CATEGORIES:Multi-Day,Workshop
ATTACH;FMTTYPE=image/jpeg:https://bobkatquilts.com/wp-content/uploads/2022/02/Boughs-of-Holly-2.jpg
GEO:47.6332915;-122.3796514
X-APPLE-STRUCTURED-LOCATION;VALUE=URI;X-ADDRESS=Holland America Noordam Smith Cove Cruise Terminal at Pier 91 2001 West Garfield Street Seattle 98119 United States;X-APPLE-RADIUS=500;X-TITLE=Smith Cove Cruise Terminal at Pier 91\, 2001 West Garfield Street:geo:-122.3796514,47.6332915
END:VEVENT
BEGIN:VEVENT
DTSTART;TZID=America/Detroit:20191108T100000
DTEND;TZID=America/Detroit:20191109T163000
DTSTAMP:20260421T142336
CREATED:20190731T230720Z
LAST-MODIFIED:20190802T034921Z
UID:10000003-1573207200-1573317000@bobkatquilts.com
SUMMARY:Poinsettia by Quiltworx - 2 day class
DESCRIPTION:This fun table topper can be finished round or square! The pattern gives you both options. This project is a great weekend project as it goes together very quickly and can be decorating your holiday tables (or walls!) this season! Foundation paper piecing creates those beautiful points when you’re not looking!   Finishes at 30″ x 30″. \nFriday\, November 8 and Saturday November 9 from 10:00 AM – 4:30 PM at The Stitching Studio in Austin. \nPattern sold separately. \nContact me if you would like assistance coloring your quilt — or if you would be interested in a custom kit.
URL:https://bobkatquilts.com/event/poinsettia-by-quiltworx-2-day-class/
LOCATION:The Stitching Studio\, 12325 Hydemeadow Dr.\, Austin\, TX\, 78750\, United States
CATEGORIES:Multi-Day,Workshop
ATTACH;FMTTYPE=image/jpeg:https://bobkatquilts.com/wp-content/uploads/2017/10/Poinsettia-Kit-Christmas-Colors.jpg
GEO:30.4546041;-97.796479
X-APPLE-STRUCTURED-LOCATION;VALUE=URI;X-ADDRESS=The Stitching Studio 12325 Hydemeadow Dr. Austin TX 78750 United States;X-APPLE-RADIUS=500;X-TITLE=12325 Hydemeadow Dr.:geo:-97.796479,30.4546041
END:VEVENT
BEGIN:VEVENT
DTSTART;TZID=America/Chicago:20191015T100000
DTEND;TZID=America/Chicago:20191016T163000
DTSTAMP:20260421T142336
CREATED:20190731T214148Z
LAST-MODIFIED:20190802T033506Z
UID:10000031-1571133600-1571243400@bobkatquilts.com
SUMMARY:Tree's Up Class - 2 day class
DESCRIPTION:This is a perfect holiday quilt! Take 10 red fat quarters\, 10 green fat quarters and 10 cream/white fat quarters\, a little cutting and shuffling and you are ready to sew! Only 2 spots in each block where you worry about points matching makes this a great beginner’s project. Have it ready to display this holiday season!st \nClass will meet Tuesday and Wednesday\, October 15-16 from 10:00 AM – 4:30 PM. \nThis is NOT a paper pieced quilt.  Just grab 10 green fat quartters\, 10 red fat quarters and 10 cream/white fat quarters and you’ll be ready to go!  (FQ are a MUST!) \nPattern included with class fee.
URL:https://bobkatquilts.com/event/trees-up-class-2-day-class/
LOCATION:The Stitching Studio\, 12325 Hydemeadow Dr.\, Austin\, TX\, 78750\, United States
CATEGORIES:Multi-Day,Workshop
ATTACH;FMTTYPE=image/jpeg:https://bobkatquilts.com/wp-content/uploads/2017/10/trees-up.jpg
GEO:30.4546041;-97.796479
X-APPLE-STRUCTURED-LOCATION;VALUE=URI;X-ADDRESS=The Stitching Studio 12325 Hydemeadow Dr. Austin TX 78750 United States;X-APPLE-RADIUS=500;X-TITLE=12325 Hydemeadow Dr.:geo:-97.796479,30.4546041
END:VEVENT
END:VCALENDAR