BEGIN:VCALENDAR
VERSION:2.0
PRODID:-//Bobkatquilts.com - ECPv6.15.20//NONSGML v1.0//EN
CALSCALE:GREGORIAN
METHOD:PUBLISH
X-WR-CALNAME:Bobkatquilts.com
X-ORIGINAL-URL:https://bobkatquilts.com
X-WR-CALDESC:Events for Bobkatquilts.com
REFRESH-INTERVAL;VALUE=DURATION:PT1H
X-Robots-Tag:noindex
X-PUBLISHED-TTL:PT1H
BEGIN:VTIMEZONE
TZID:America/Halifax
BEGIN:DAYLIGHT
TZOFFSETFROM:-0400
TZOFFSETTO:-0300
TZNAME:ADT
DTSTART:20170312T060000
END:DAYLIGHT
BEGIN:STANDARD
TZOFFSETFROM:-0300
TZOFFSETTO:-0400
TZNAME:AST
DTSTART:20171105T050000
END:STANDARD
BEGIN:DAYLIGHT
TZOFFSETFROM:-0400
TZOFFSETTO:-0300
TZNAME:ADT
DTSTART:20180311T060000
END:DAYLIGHT
BEGIN:STANDARD
TZOFFSETFROM:-0300
TZOFFSETTO:-0400
TZNAME:AST
DTSTART:20181104T050000
END:STANDARD
BEGIN:DAYLIGHT
TZOFFSETFROM:-0400
TZOFFSETTO:-0300
TZNAME:ADT
DTSTART:20190310T060000
END:DAYLIGHT
BEGIN:STANDARD
TZOFFSETFROM:-0300
TZOFFSETTO:-0400
TZNAME:AST
DTSTART:20191103T050000
END:STANDARD
END:VTIMEZONE
BEGIN:VTIMEZONE
TZID:America/New_York
BEGIN:DAYLIGHT
TZOFFSETFROM:-0500
TZOFFSETTO:-0400
TZNAME:EDT
DTSTART:20160313T070000
END:DAYLIGHT
BEGIN:STANDARD
TZOFFSETFROM:-0400
TZOFFSETTO:-0500
TZNAME:EST
DTSTART:20161106T060000
END:STANDARD
BEGIN:DAYLIGHT
TZOFFSETFROM:-0500
TZOFFSETTO:-0400
TZNAME:EDT
DTSTART:20170312T070000
END:DAYLIGHT
BEGIN:STANDARD
TZOFFSETFROM:-0400
TZOFFSETTO:-0500
TZNAME:EST
DTSTART:20171105T060000
END:STANDARD
BEGIN:DAYLIGHT
TZOFFSETFROM:-0500
TZOFFSETTO:-0400
TZNAME:EDT
DTSTART:20180311T070000
END:DAYLIGHT
BEGIN:STANDARD
TZOFFSETFROM:-0400
TZOFFSETTO:-0500
TZNAME:EST
DTSTART:20181104T060000
END:STANDARD
BEGIN:DAYLIGHT
TZOFFSETFROM:-0500
TZOFFSETTO:-0400
TZNAME:EDT
DTSTART:20190310T070000
END:DAYLIGHT
BEGIN:STANDARD
TZOFFSETFROM:-0400
TZOFFSETTO:-0500
TZNAME:EST
DTSTART:20191103T060000
END:STANDARD
END:VTIMEZONE
BEGIN:VTIMEZONE
TZID:America/New_York
BEGIN:DAYLIGHT
TZOFFSETFROM:-0500
TZOFFSETTO:-0400
TZNAME:EDT
DTSTART:20160313T070000
END:DAYLIGHT
BEGIN:STANDARD
TZOFFSETFROM:-0400
TZOFFSETTO:-0500
TZNAME:EST
DTSTART:20161106T060000
END:STANDARD
BEGIN:DAYLIGHT
TZOFFSETFROM:-0500
TZOFFSETTO:-0400
TZNAME:EDT
DTSTART:20170312T070000
END:DAYLIGHT
BEGIN:STANDARD
TZOFFSETFROM:-0400
TZOFFSETTO:-0500
TZNAME:EST
DTSTART:20171105T060000
END:STANDARD
BEGIN:DAYLIGHT
TZOFFSETFROM:-0500
TZOFFSETTO:-0400
TZNAME:EDT
DTSTART:20180311T070000
END:DAYLIGHT
BEGIN:STANDARD
TZOFFSETFROM:-0400
TZOFFSETTO:-0500
TZNAME:EST
DTSTART:20181104T060000
END:STANDARD
BEGIN:DAYLIGHT
TZOFFSETFROM:-0500
TZOFFSETTO:-0400
TZNAME:EDT
DTSTART:20190310T070000
END:DAYLIGHT
BEGIN:STANDARD
TZOFFSETFROM:-0400
TZOFFSETTO:-0500
TZNAME:EST
DTSTART:20191103T060000
END:STANDARD
END:VTIMEZONE
BEGIN:VEVENT
DTSTART;TZID=America/Halifax:20180311T130000
DTEND;TZID=America/Halifax:20180311T150000
DTSTAMP:20260422T041703
CREATED:20180224T152726Z
LAST-MODIFIED:20180311T162755Z
UID:10000041-1520773200-1520780400@bobkatquilts.com
SUMMARY:Trunk Show and Lecture - Intro To Quiltworx Quilts
DESCRIPTION:Join me as I take the mystery out of these gorgeous heirloom quilts!  Quiltmakers often think they could never to one of these… they are far too difficult!  I’m here to change your mind.  I’ll have more than 30 of my Quiltworx quilts to share with you as I explain the techniques that makes these quilts do-able by even a novice quiltmaker!!
URL:https://bobkatquilts.com/event/trunk-show-and-lecture-intro-to-quiltworx-quilts/
ATTACH;FMTTYPE=image/jpeg:https://bobkatquilts.com/wp-content/uploads/2018/02/3630f2e3f17843ada1af4a1ccd25f47f.jpg
END:VEVENT
BEGIN:VEVENT
DTSTART;TZID=America/New_York:20180310T100000
DTEND;TZID=America/New_York:20180310T160000
DTSTAMP:20260422T041703
CREATED:20180202T045352Z
LAST-MODIFIED:20180310T162952Z
UID:10000024-1520676000-1520697600@bobkatquilts.com
SUMMARY:Tall Pine Quilt Guild Lecture\, Trunk Show and Workshop
DESCRIPTION:Lecture and Trunk Show highlighting Quiltworx quilts and the Quiltworx techniques!   Workshop patterns include Splash\, Rocky Mountain Bear Claw\, Cactus Flower\, Wrapped in Ribbon
URL:https://bobkatquilts.com/event/tall-pine-quilt-guild-lecture-trunk-show-and-workshop/
ATTACH;FMTTYPE=image/jpeg:https://bobkatquilts.com/wp-content/uploads/2018/02/28ffe7debb08754743f7b1e16583e10f.jpg
END:VEVENT
BEGIN:VEVENT
DTSTART;TZID=America/New_York:20180309T100000
DTEND;TZID=America/New_York:20180309T160000
DTSTAMP:20260422T041703
CREATED:20180202T045354Z
LAST-MODIFIED:20180309T163410Z
UID:10000025-1520589600-1520611200@bobkatquilts.com
SUMMARY:Tall Pine Quilt Guild Lecture\, Trunk Show and Workshop
DESCRIPTION:Lecture and Trunk Show highlighting Quiltworx quilts and the Quiltworx techniques!   Workshop patterns include Splash\, Rocky Mountain Bear Claw\, Cactus Flower\, Wrapped in Ribbon
URL:https://bobkatquilts.com/event/tall-pine-quilt-guild-lecture-trunk-show-and-workshop-2/
ATTACH;FMTTYPE=image/jpeg:https://bobkatquilts.com/wp-content/uploads/2018/02/28ffe7debb08754743f7b1e16583e10f.jpg
END:VEVENT
BEGIN:VEVENT
DTSTART;TZID=America/New_York:20180308T190000
DTEND;TZID=America/New_York:20180308T210000
DTSTAMP:20260422T041703
CREATED:20180202T045354Z
LAST-MODIFIED:20180308T162958Z
UID:10000046-1520535600-1520542800@bobkatquilts.com
SUMMARY:Tall Pine Quilt Guild Lecture\, Trunk Show and Workshop
DESCRIPTION:Lecture and Trunk Show highlighting Quiltworx quilts and the Quiltworx techniques!   Workshop patterns include Splash\, Rocky Mountain Bear Claw\, Cactus Flower\, Wrapped in Ribbon
URL:https://bobkatquilts.com/event/tall-pine-quilt-guild-lecture-trunk-show-and-workshop-3/
ATTACH;FMTTYPE=image/jpeg:https://bobkatquilts.com/wp-content/uploads/2018/02/28ffe7debb08754743f7b1e16583e10f.jpg
END:VEVENT
BEGIN:VEVENT
DTSTART;TZID=America/New_York:20180303T100000
DTEND;TZID=America/New_York:20180303T160000
DTSTAMP:20260422T041703
CREATED:20180202T045357Z
LAST-MODIFIED:20180303T161427Z
UID:10000045-1520071200-1520092800@bobkatquilts.com
SUMMARY:Quiltworx Workshop - Grand Rapids\, MI
DESCRIPTION:Choose from the following patterns:  Wedding Star Table Topper\, Autumn Pines\, Fractured Star or Fractured Paintbox  \nThis class is perfect for everyone — whether it is your first “Judy” quilt or you’ve done one before.  Join me and I’ll share some of the tricks and techniques Judy has taught me during my hundreds of hours of study of the Quiltworx process. \nPatterns should be purchased at https://bobkatquilts.com but supplies and fabrics are available at the quilt shop. \nAn optional prep day is February 10 — where I will be at the quilt shop to answer questions\, help you choose fabrics\, prepare your papers or even cut and bag your fabrics. \nJoin me!  Contact Luv 2 Quilt to register!   The class is all 3 dates — with the February 10 prep date optional.  The first 2 class dates we will begin the sewing of your quilt components.  Then you’ll return for the 3rd date where you will begin assembly of your completed paper pieced components. \nCALL LUV 2QUILT to register\n(616) 951-7156 \nFreel free to email me with questions at:\nKathy@bobkatquilts.com
URL:https://bobkatquilts.com/event/quiltworx-workshop-grand-rapids-mi/
LOCATION:Luv 2 Quilt\, 10580 Northland Dr NE\, Rockford\, MI\, 49341\, United States
ATTACH;FMTTYPE=image/jpeg:https://bobkatquilts.com/wp-content/uploads/2018/02/e83fda41ed35804f59232bc38d775c7d.jpg
GEO:43.1570208;-85.5502105
X-APPLE-STRUCTURED-LOCATION;VALUE=URI;X-ADDRESS=Luv 2 Quilt 10580 Northland Dr NE Rockford MI 49341 United States;X-APPLE-RADIUS=500;X-TITLE=10580 Northland Dr NE:geo:-85.5502105,43.1570208
END:VEVENT
BEGIN:VEVENT
DTSTART;TZID=America/New_York:20180227T100000
DTEND;TZID=America/New_York:20180227T160000
DTSTAMP:20260422T041703
CREATED:20180202T045359Z
LAST-MODIFIED:20180227T160630Z
UID:10000044-1519725600-1519747200@bobkatquilts.com
SUMMARY:Trunk Show and Workshop at Scarlet Threads Quilt Guild
DESCRIPTION:Join me in Kokomo\, Indiana for a Monday night trunk show followed by a Tuesday workshop.  Pattern is Labyrinth — the perfect beginners project!
URL:https://bobkatquilts.com/event/trunk-show-and-workshop-at-scarlet-threads-quilt-guild/
ATTACH;FMTTYPE=image/jpeg:https://bobkatquilts.com/wp-content/uploads/2018/02/d488e6e3d4d1d64bf6f6181d5ab44a7f.jpg
END:VEVENT
BEGIN:VEVENT
DTSTART;TZID=America/New_York:20180226T190000
DTEND;TZID=America/New_York:20180226T210000
DTSTAMP:20260422T041703
CREATED:20180202T045401Z
LAST-MODIFIED:20180226T160004Z
UID:10000026-1519671600-1519678800@bobkatquilts.com
SUMMARY:Trunk Show and Workshop at Scarlet Threads Quilt Guild
DESCRIPTION:Join me in Kokomo\, Indiana for a Monday night trunk show followed by a Tuesday workshop.  Pattern is Labyrinth — the perfect beginners project!
URL:https://bobkatquilts.com/event/trunk-show-and-workshop-at-scarlet-threads-quilt-guild-2/
ATTACH;FMTTYPE=image/jpeg:https://bobkatquilts.com/wp-content/uploads/2018/02/d488e6e3d4d1d64bf6f6181d5ab44a7f.jpg
END:VEVENT
BEGIN:VEVENT
DTSTART;TZID=America/New_York:20180217T100000
DTEND;TZID=America/New_York:20180217T160000
DTSTAMP:20260422T041703
CREATED:20180202T045401Z
LAST-MODIFIED:20180217T073510Z
UID:10000027-1518861600-1518883200@bobkatquilts.com
SUMMARY:Quiltworx Workshop - Grand Rapids\, MI
DESCRIPTION:Choose from the following patterns:  Wedding Star Table Topper\, Autumn Pines\, Fractured Star or Fractured Paintbox  \nThis class is perfect for everyone — whether it is your first “Judy” quilt or you’ve done one before.  Join me and I’ll share some of the tricks and techniques Judy has taught me during my hundreds of hours of study of the Quiltworx process. \nPatterns should be purchased at https://bobkatquilts.com but supplies and fabrics are available at the quilt shop. \nAn optional prep day is February 10 — where I will be at the quilt shop to answer questions\, help you choose fabrics\, prepare your papers or even cut and bag your fabrics. \nJoin me!  Contact Luv 2 Quilt to register!   The class is all 3 dates — with the February 10 prep date optional.  The first 2 class dates we will begin the sewing of your quilt components.  Then you’ll return for the 3rd date where you will begin assembly of your completed paper pieced components. \nCALL LUV 2QUILT to register\n(616) 951-7156 \nFreel free to email me with questions at:\nKathy@bobkatquilts.com
URL:https://bobkatquilts.com/event/quiltworx-workshop-grand-rapids-mi-2/
LOCATION:Luv 2 Quilt\, 10580 Northland Dr NE\, Rockford\, MI\, 49341\, United States
ATTACH;FMTTYPE=image/jpeg:https://bobkatquilts.com/wp-content/uploads/2018/02/e83fda41ed35804f59232bc38d775c7d.jpg
GEO:43.1570208;-85.5502105
X-APPLE-STRUCTURED-LOCATION;VALUE=URI;X-ADDRESS=Luv 2 Quilt 10580 Northland Dr NE Rockford MI 49341 United States;X-APPLE-RADIUS=500;X-TITLE=10580 Northland Dr NE:geo:-85.5502105,43.1570208
END:VEVENT
BEGIN:VEVENT
DTSTART;TZID=America/New_York:20180216T100000
DTEND;TZID=America/New_York:20180216T160000
DTSTAMP:20260422T041703
CREATED:20180202T045402Z
LAST-MODIFIED:20180216T071110Z
UID:10000028-1518775200-1518796800@bobkatquilts.com
SUMMARY:Quiltworx Workshop - Grand Rapids\, MI
DESCRIPTION:Choose from the following patterns:  Wedding Star Table Topper\, Autumn Pines\, Fractured Star or Fractured Paintbox  \nThis class is perfect for everyone — whether it is your first “Judy” quilt or you’ve done one before.  Join me and I’ll share some of the tricks and techniques Judy has taught me during my hundreds of hours of study of the Quiltworx process. \nPatterns should be purchased at https://bobkatquilts.com but supplies and fabrics are available at the quilt shop. \nAn optional prep day is February 10 — where I will be at the quilt shop to answer questions\, help you choose fabrics\, prepare your papers or even cut and bag your fabrics. \nJoin me!  Contact Luv 2 Quilt to register!   The class is all 3 dates — with the February 10 prep date optional.  The first 2 class dates we will begin the sewing of your quilt components.  Then you’ll return for the 3rd date where you will begin assembly of your completed paper pieced components. \nCALL LUV 2QUILT to register\n(616) 951-7156 \nFreel free to email me with questions at:\nKathy@bobkatquilts.com
URL:https://bobkatquilts.com/event/quiltworx-workshop-grand-rapids-mi-3/
LOCATION:Luv 2 Quilt\, 10580 Northland Dr NE\, Rockford\, MI\, 49341\, United States
ATTACH;FMTTYPE=image/jpeg:https://bobkatquilts.com/wp-content/uploads/2018/02/e83fda41ed35804f59232bc38d775c7d.jpg
GEO:43.1570208;-85.5502105
X-APPLE-STRUCTURED-LOCATION;VALUE=URI;X-ADDRESS=Luv 2 Quilt 10580 Northland Dr NE Rockford MI 49341 United States;X-APPLE-RADIUS=500;X-TITLE=10580 Northland Dr NE:geo:-85.5502105,43.1570208
END:VEVENT
BEGIN:VEVENT
DTSTART;TZID=America/Halifax:20180208T100000
DTEND;TZID=America/Halifax:20180208T120000
DTSTAMP:20260422T041703
CREATED:20180202T045344Z
LAST-MODIFIED:20180224T201119Z
UID:10000047-1518084000-1518091200@bobkatquilts.com
SUMMARY:Tri-County Quilt Guild - Do You EQ? Lecture and Trunk Show
DESCRIPTION:Electric Quilt design software is a wonderful tool allowing you to create from scratch\, rework a pattern\, play with fabric and color placement in your quilts. Computers can be an extraordinary resource — and I’ll give you new ways to put your computer to work in your sewing studio! \nTrunk show will include a wide variety of quilts — from placemats to king sized quilts\, traditionally pieced quilts\, appliqued quilts and foundation paper pieced quilts. Lots of holiday quilts\, children’s quilts. Hopefully you’ll come away inspired to go design and create your next project! \n  \nFirst United Methodists. 5005 Chicago Warren
URL:https://bobkatquilts.com/event/tri-county-quilt-guild-do-you-eq-lecture-and-trunk-show/
ATTACH;FMTTYPE=image/jpeg:https://bobkatquilts.com/wp-content/uploads/2018/02/9e34e6a64eb2a90435b953ff334274fe.jpg
END:VEVENT
BEGIN:VEVENT
DTSTART;TZID=America/New_York:20180203T093000
DTEND;TZID=America/New_York:20180203T150000
DTSTAMP:20260422T041703
CREATED:20171108T044621Z
LAST-MODIFIED:20180203T012859Z
UID:10000018-1517650200-1517670000@bobkatquilts.com
SUMMARY:Judy Niemeyer Pepper Dish Class 3 of 3
DESCRIPTION:Join Kathy Groves in a 3-day class where you will create this beautiful 42″ square wall hanging as you learn multiple Quiltworx techniques.  From the basics of working with a Quiltworx pattern to the fundamentals of foundation paper piecing\, curved piecing and Judy Niemeyer’s non-raw edge machine applique – this is the perfect project to get a hands-on education in her techniques. \nSaturday & Sunday\, January 20th & 21stSaturday\, February 3rd9:30 am – 3 pm \nClass Fee:  $129 for all 3 sessionsTo register: Call Leabu Sewing Center at 734.663.3033     \nInstructor:  Kathryn Groves of BobKat Quilts                  Quiltworx Certified Instructor (in training) \nSkill Level:  Confident Beginner
URL:https://bobkatquilts.com/event/judy-niemeyer-pepper-dish-class-3-of-3/
CATEGORIES:Multi-Day,Workshop
END:VEVENT
BEGIN:VEVENT
DTSTART;TZID=America/New_York:20180121T093000
DTEND;TZID=America/New_York:20180121T150000
DTSTAMP:20260422T041703
CREATED:20171108T044621Z
LAST-MODIFIED:20180120T110426Z
UID:10000017-1516527000-1516546800@bobkatquilts.com
SUMMARY:Judy Niemeyer Pepper Dish Class 2 of 3
DESCRIPTION:Join Kathy Groves in a 3-day class where you will create this beautiful 42″ square wall hanging as you learn multiple Quiltworx techniques.  From the basics of working with a Quiltworx pattern to the fundamentals of foundation paper piecing\, curved piecing and Judy Niemeyer’s non-raw edge machine applique – this is the perfect project to get a hands-on education in her techniques. \nSaturday & Sunday\, January 20th & 21stSaturday\, February 3rd9:30 am – 3 pm \nClass Fee:  $129 for all 3 sessionsTo register: Call Leabu Sewing Center at 734.663.3033     \nInstructor:  Kathryn Groves of BobKat Quilts                  Quiltworx Certified Instructor (in training) \nSkill Level:  Confident Beginner
URL:https://bobkatquilts.com/event/judy-niemeyer-pepper-dish-class-2-of-3/
CATEGORIES:Multi-Day,Workshop
END:VEVENT
BEGIN:VEVENT
DTSTART;TZID=America/New_York:20180120T093000
DTEND;TZID=America/New_York:20180120T150000
DTSTAMP:20260422T041703
CREATED:20171108T044620Z
LAST-MODIFIED:20180120T110426Z
UID:10000016-1516440600-1516460400@bobkatquilts.com
SUMMARY:Judy Niemeyer Pepper Dish Class 1 of 3
DESCRIPTION:Join Kathy Groves in a 3-day class where you will create this beautiful 42″ square wall hanging as you learn multiple Quiltworx techniques.  From the basics of working with a Quiltworx pattern to the fundamentals of foundation paper piecing\, curved piecing and Judy Niemeyer’s non-raw edge machine applique – this is the perfect project to get a hands-on education in her techniques. \nSaturday & Sunday\, January 20th & 21stSaturday\, February 3rd9:30 am – 3 pm \nClass Fee:  $129 for all 3 sessions To register: Call Leabu Sewing Center at 734.663.3033   \nInstructor:  Kathryn Groves of BobKat Quilts                  Quiltworx Certified Instructor (in training) \nSkill Level:  Confident Beginner
URL:https://bobkatquilts.com/event/judy-niemeyer-pepper-dish-class-1-of-3/
LOCATION:Leabu Sewing Center\, 1601 S Industrial Blvd\, Ann Arbor\, MI\, 48104\, United States
CATEGORIES:Multi-Day,Workshop
ATTACH;FMTTYPE=image/jpeg:https://bobkatquilts.com/wp-content/uploads/2017/10/22853245_293247941162874_7058014685270307150_n.jpg
GEO:42.26148;-83.7373466
X-APPLE-STRUCTURED-LOCATION;VALUE=URI;X-ADDRESS=Leabu Sewing Center 1601 S Industrial Blvd Ann Arbor MI 48104 United States;X-APPLE-RADIUS=500;X-TITLE=1601 S Industrial Blvd:geo:-83.7373466,42.26148
END:VEVENT
BEGIN:VEVENT
DTSTART;TZID=America/New_York:20171209T100000
DTEND;TZID=America/New_York:20171209T150000
DTSTAMP:20260422T041703
CREATED:20171109T044353Z
LAST-MODIFIED:20171209T071442Z
UID:10000019-1512813600-1512831600@bobkatquilts.com
SUMMARY:Quiltworx Finishing Day - Sew What! Wyandotte\, MI
DESCRIPTION:Need a little help finishing a Quiltworx pattern? Or maybe you just want company as you work on it! \nStudents from Certified Instructor Kathy Groves’ classes are welcome to join us for a day of sewing… and getting the help you may need to move forward on your project.$30
URL:https://bobkatquilts.com/event/quiltworx-finishing-day-sew-what-wyandotte-mi/
LOCATION:Sew What Quilt Shop\, 1128 Eureka Rd\, Wyandotte\, MI 48192\, USA\, 2 Eureka Rd\, Wyandotte\, MI\, United States
CATEGORIES:Workday
ATTACH;FMTTYPE=image/jpeg:https://bobkatquilts.com/wp-content/uploads/2017/04/Wedding-Star-Table-Topper2jpg.jpg
GEO:42.1996303;-83.1487012
X-APPLE-STRUCTURED-LOCATION;VALUE=URI;X-ADDRESS=Sew What Quilt Shop 1128 Eureka Rd Wyandotte MI 48192 USA 2 Eureka Rd Wyandotte MI United States;X-APPLE-RADIUS=500;X-TITLE=2 Eureka Rd:geo:-83.1487012,42.1996303
END:VEVENT
BEGIN:VEVENT
DTSTART;TZID=America/New_York:20171202T100000
DTEND;TZID=America/New_York:20171202T150000
DTSTAMP:20260422T041703
CREATED:20171108T031328Z
LAST-MODIFIED:20171202T045818Z
UID:10000001-1512208800-1512226800@bobkatquilts.com
SUMMARY:Quiltworx Sewing Day
DESCRIPTION:Working on a Quiltworx pattern and want company?  Or maybe you set it aside and now need a little “boost” to get going again?  Doesn’t matter why\,   just pack it up and come on in and let’s sew together. \nKathy Groves of BobKat Quilts will be there to assist you as you continue working on your own Quiltworx pattern.  She can help you select fabrics for a new project\, answer questions about patterns and techniques.  If it is Quiltworx related – she will either have the answer… or get it for you!
URL:https://bobkatquilts.com/event/quiltworx-sewing-day/
CATEGORIES:Workday
ATTACH;FMTTYPE=image/jpeg:https://bobkatquilts.com/wp-content/uploads/2017/11/d70ba64475ae0387da25e12cfd886ec5.jpg
END:VEVENT
BEGIN:VEVENT
DTSTART;TZID=America/New_York:20171130T100000
DTEND;TZID=America/New_York:20171130T160000
DTSTAMP:20260422T041703
CREATED:20171108T040933Z
LAST-MODIFIED:20171129T064311Z
UID:10000015-1512036000-1512057600@bobkatquilts.com
SUMMARY:Poinsettia Table Topper / Wall Quilt - 2nd day of class
DESCRIPTION:Join Kathy Groves in a 2-day class where you will create this beautiful table topper or wall quilt as you learn multiple Quiltworx techniques. From the basics of working with a Quiltworx pattern to the fundamentals of foundation paper piecing and curved piecing – this is the perfect holiday project to get a hands-on education in Judy Niemeyer’s techniques. So quick you can have it on your table this holiday season! \nDate:Thursday November 16 & November 30\n10:00 AM – 4:00 PM \n*Sample quilt was sewn by CI Kristin B. \nhttps://www.facebook.com/events/838736529637842/
URL:https://bobkatquilts.com/event/poinsettia-table-topper-wall-quilt-2nd-day-of-class/
LOCATION:Leabu Sewing Center\, 1601 S Industrial Blvd\, Ann Arbor\, MI\, 48104\, United States
CATEGORIES:Multi-Day,Workshop
GEO:42.26148;-83.7373466
X-APPLE-STRUCTURED-LOCATION;VALUE=URI;X-ADDRESS=Leabu Sewing Center 1601 S Industrial Blvd Ann Arbor MI 48104 United States;X-APPLE-RADIUS=500;X-TITLE=1601 S Industrial Blvd:geo:-83.7373466,42.26148
END:VEVENT
BEGIN:VEVENT
DTSTART;TZID=America/New_York:20171117T100000
DTEND;TZID=America/New_York:20171117T160000
DTSTAMP:20260422T041703
CREATED:20171108T031327Z
LAST-MODIFIED:20171117T041242Z
UID:10000011-1510912800-1510934400@bobkatquilts.com
SUMMARY:Seasonal Table Runner Class
DESCRIPTION:This beautiful #Quiltworx table runner is foundation paper pieced which makes those flying geese perfect every time.  Add the compasses in the middle and you’ve got a table runner that your holiday guests will oooh and ahhhh over!   Choose colors for Thanksgiving\, Christmas\, 4th of July or all year round. \nConfident beginners — Paper piecing is basic — but there will be a lot of curves and curved binding.  But I can help you learn the tricks if you are willing to give it a try!
URL:https://bobkatquilts.com/event/seasonal-table-runner-class/
CATEGORIES:Multi-Day,Workshop
ATTACH;FMTTYPE=image/jpeg:https://bobkatquilts.com/wp-content/uploads/2017/11/a5178fd3d0c9cf8329a2d74fa410b99e.jpg
END:VEVENT
BEGIN:VEVENT
DTSTART;TZID=America/New_York:20171116T100000
DTEND;TZID=America/New_York:20171116T160000
DTSTAMP:20260422T041703
CREATED:20171108T031326Z
LAST-MODIFIED:20171116T041229Z
UID:10000034-1510826400-1510848000@bobkatquilts.com
SUMMARY:Poinsettia Table Topper / Wall Quilt - 2 day class
DESCRIPTION:Join Kathy Groves in a 2-day class where you will create this beautiful table topper or wall quilt as you learn multiple Quiltworx techniques. From the basics of working with a Quiltworx pattern to the fundamentals of foundation paper piecing and curved piecing – this is the perfect holiday project to get a hands-on education in Judy Niemeyer’s techniques. So quick you can have it on your table this holiday season! \nDate: Thursday November 16 & November 30\n10:00 AM – 4:00 PM \n*Sample quilt was sewn by CI Kristin B.
URL:https://bobkatquilts.com/event/poinsettia-table-topper-wall-quilt-2-day-class/
CATEGORIES:Multi-Day,Workshop
ATTACH;FMTTYPE=image/jpeg:https://bobkatquilts.com/wp-content/uploads/2017/11/34753b8aa7a1b6c22616d522e915caec.jpg
END:VEVENT
BEGIN:VEVENT
DTSTART;TZID=America/New_York:20171112T130000
DTEND;TZID=America/New_York:20171113T160000
DTSTAMP:20260422T041703
CREATED:20171108T040932Z
LAST-MODIFIED:20171113T050812Z
UID:10000002-1510491600-1510588800@bobkatquilts.com
SUMMARY:Lighthouse Quilt Guild
DESCRIPTION:Program:  Trunk show by Kathryn \nClass:  Judy Niemeyer project with Kathryn Groves.  Two day workshop to create a table topper or bed runner.  Students can select one of the following patterns:  Bali Bed Runner\,  Bali Wedding Star Quilt\, Wedding Star Table Topper\, Waterwheel or Labyrinth.  Click here to see pattern options for the class November workshop options \nClass will be at the Wiltse Center on Sunday 11/12/17 from 1 – 6\, and Monday 11/13/17 from 10 – 4\, with an hour for lunch on your own.  Students will buy pattern from the teacher.   \nCost is $75 for members and $85 for non-members plus the pattern class. \nRegister by contacting the Lighthouse Quilt Guild  \nhttp://www.lighthousequilters.org/events/upcoming-programs/ \nWe are also on Facebook! Click on the link below to see more pictures and get more information. Lighthouse Quilt Guild on Facebook
URL:https://bobkatquilts.com/event/lighthouse-quilt-guild/
LOCATION:United Methodist Church of the Dunes\, Wiltse Center Multipurpose Room\,  717 Sheldon Road\, Grand Haven\, MI 49417\, 401 Sheldon Rd\, Grand Haven\, MI\, United States
CATEGORIES:Multi-Day,Workshop
GEO:43.0591674;-86.2280777
X-APPLE-STRUCTURED-LOCATION;VALUE=URI;X-ADDRESS=United Methodist Church of the Dunes Wiltse Center Multipurpose Room  717 Sheldon Road Grand Haven MI 49417 401 Sheldon Rd Grand Haven MI United States;X-APPLE-RADIUS=500;X-TITLE=401 Sheldon Rd:geo:-86.2280777,43.0591674
END:VEVENT
BEGIN:VEVENT
DTSTART;TZID=America/New_York:20171109T190000
DTEND;TZID=America/New_York:20171109T203000
DTSTAMP:20260422T041703
CREATED:20171108T031325Z
LAST-MODIFIED:20171113T023340Z
UID:10000049-1510254000-1510259400@bobkatquilts.com
SUMMARY:Lecture & Trunk Show - How to Eat an Elephant
DESCRIPTION:Kathy will share with you her more than 30 Quiltworx foundation paper pieced quilts – from placemats to heirloom king-sized quilts! Some are still flimsies – but that’s a good thing because you can even see the back of the paper pieced projects! \nShe will also explain the Quiltworx process which will help take the mystery out of these complex quilts – and you will see that anyone and everyone is capable of making one of their own… when you work at it one small “bite at a time”!
URL:https://bobkatquilts.com/event/lecture-trunk-show-how-to-eat-an-elephant/
CATEGORIES:Presentation,Trunk Show
ATTACH;FMTTYPE=image/jpeg:https://bobkatquilts.com/wp-content/uploads/2017/11/b1f95984a923e2a6cc8a9b8da8b9c283.jpg
END:VEVENT
END:VCALENDAR