BEGIN:VCALENDAR
VERSION:2.0
PRODID:-//Bobkatquilts.com - ECPv6.15.20//NONSGML v1.0//EN
CALSCALE:GREGORIAN
METHOD:PUBLISH
X-ORIGINAL-URL:https://bobkatquilts.com
X-WR-CALDESC:Events for Bobkatquilts.com
REFRESH-INTERVAL;VALUE=DURATION:PT1H
X-Robots-Tag:noindex
X-PUBLISHED-TTL:PT1H
BEGIN:VTIMEZONE
TZID:America/Chicago
BEGIN:DAYLIGHT
TZOFFSETFROM:-0600
TZOFFSETTO:-0500
TZNAME:CDT
DTSTART:20240310T080000
END:DAYLIGHT
BEGIN:STANDARD
TZOFFSETFROM:-0500
TZOFFSETTO:-0600
TZNAME:CST
DTSTART:20241103T070000
END:STANDARD
BEGIN:DAYLIGHT
TZOFFSETFROM:-0600
TZOFFSETTO:-0500
TZNAME:CDT
DTSTART:20250309T080000
END:DAYLIGHT
BEGIN:STANDARD
TZOFFSETFROM:-0500
TZOFFSETTO:-0600
TZNAME:CST
DTSTART:20251102T070000
END:STANDARD
BEGIN:DAYLIGHT
TZOFFSETFROM:-0600
TZOFFSETTO:-0500
TZNAME:CDT
DTSTART:20260308T080000
END:DAYLIGHT
BEGIN:STANDARD
TZOFFSETFROM:-0500
TZOFFSETTO:-0600
TZNAME:CST
DTSTART:20261101T070000
END:STANDARD
BEGIN:DAYLIGHT
TZOFFSETFROM:-0600
TZOFFSETTO:-0500
TZNAME:CDT
DTSTART:20270314T080000
END:DAYLIGHT
BEGIN:STANDARD
TZOFFSETFROM:-0500
TZOFFSETTO:-0600
TZNAME:CST
DTSTART:20271107T070000
END:STANDARD
END:VTIMEZONE
BEGIN:VEVENT
DTSTART;TZID=America/Chicago:20251028T120000
DTEND;TZID=America/Chicago:20251028T160000
DTSTAMP:20260421T124634
CREATED:20250929T202414Z
LAST-MODIFIED:20251019T190808Z
UID:10000179-1761652800-1761667200@bobkatquilts.com
SUMMARY:Don't Put Your Elf on a Shelf... Put him/her on a Quilt!!
DESCRIPTION:This is such a fast\, fun project — the only limitation is your creativity and vision!  Raid your stash for those fun fabrics\, then using traditional fused applique create your blocks.  Turn them into table toppers\, wall quilts\, bed quilts or wall hangings!  It’s all up to you! \nAttend live or purchase the pre-recorded ON DEMAND Class with the pattern 1/2 price!  Class videos will be available by November 1st for ON DEMAND viewing. \nPattern is Which Witch (but who says witches are the only thing it works for?).  Of course\,  you can plan for next Halloween\, this Christmas — or even support your favorite team!  It’s all in the fabrics you choose. \nI’ll be sewing LIVE via Zoom on Tuesday\, October 28th from noon – 4:00.  Join me then — or look for the ON DEMAND option coming soon after.  (I have to record first!  LOL)
URL:https://bobkatquilts.com/event/dont-put-your-elf-on-a-shelf-put-him-her-on-a-quilt/
LOCATION:Your Sewing Room via Zoom!
CATEGORIES:On_Demand,Online,Zoom
ATTACH;FMTTYPE=image/jpeg:https://bobkatquilts.com/wp-content/uploads/2025/09/pattern-cover-which-witc.jpg
END:VEVENT
BEGIN:VEVENT
DTSTART;TZID=America/Chicago:20251220T100000
DTEND;TZID=America/Chicago:20251220T120000
DTSTAMP:20260421T124634
CREATED:20250929T181019Z
LAST-MODIFIED:20250929T183625Z
UID:10000178-1766224800-1766232000@bobkatquilts.com
SUMMARY:Diamond Wedding Star by Quiltworx - Live Zoom Series
DESCRIPTION:This is a quilt I’ve long wanted to make!  Now is the time! \nThe Diamond Wedding Star finishes at 96″ x 99″.  You can do the piecing only — which allows for exquisite quilting to highlight your piecing.  Or you can add applique to add another layer of beauty to your quilt.  Go holiday (I’ll be doing my applique in reds for a Poinsettia & Holly look) or go beautiful spring\, summer or fall colors!  Any color combination you choose this quilt will be a stunner! \nThe quilt is build to use one of Judy’s 2 1/2″ strip sets (I have many colorways available) or you can create your own!  The intro class will explain fully how to color and coordinate your fabric purchases to create the quilt of your dreams.  The pattern is also available in Quiltster.  (Never used Quiltster before?  Purchase my one demand Quiltster class and you’ll be up to speed in no time at all.) \nClasses meet LIVE on Saturday morning for a discussion and explanation of your upcoming homework.  Separate instructional sewing videos will detail the actual techniques required to sew each component and through the assembly process. \nChoose to add applique to your quilt — or just do the piecing!  It’s up to you.  Instruction will be provided for both applique options:  traditional machine applique using Judy’s applique products OR choose machine digitized embroidery applique using the Fabric Confetti Software.  The differences and options will be discussed in the intro class session. \nPatterns / Applique if purchases will be shipped early-mid November.  Patterns & applique are discounted with purchase through me! \nLive class sessions will be recorded — so you’ll never miss a moment. \nAll classes are on Saturdays and start at 10:00 AM – and will run 60-90 minutes (as long as needed).  RESERVE YOUR SPOT BEFORE THANKSGIVING AND SAVE $25.00  USE COUPON CODE   TURKEY.\n20-Dec             Introduction to Pattern\, Fabric Requirements\, Applique Options \n10-Jan              Cutting & Organizing Fabrics \n17-Jan              Preparing Appliqué \n31-Jan              Strip Piecing the Arcs \n14-Feb              Curved Piecing (AR / BL)          \n28-Feb              Flame Star — Cutting / Sewing \n14-Mar              Assembly Prep — Cutting LARGE T-Templates \n28-Mar              Assembly — Creating Wedge Groups \nRecorded          Machine Embroidery How-To (Fabric Confetti Software) \n11-Apr              Assembly — Joining Wedges to Rows \n25-Apr              Finishing Your Quilt Top \n  \nMy commitment to you is from start-to-finish!  Even after the series is completed — as long as you are working — I’ll be there if you have any questions!
URL:https://bobkatquilts.com/event/diamond-wedding-star-by-quiltworx-live-zoom-series/
LOCATION:Your Sewing Room via Zoom!
CATEGORIES:Zoom
ATTACH;FMTTYPE=image/jpeg:https://bobkatquilts.com/wp-content/uploads/2025/09/Diamond-Wedding-Star-Multi-Fabric-Cover.jpg
END:VEVENT
BEGIN:VEVENT
DTSTART;TZID=America/Chicago:20260403T100000
DTEND;TZID=America/Chicago:20260403T120000
DTSTAMP:20260421T124634
CREATED:20260128T181340Z
LAST-MODIFIED:20260128T185836Z
UID:10000182-1775210400-1775217600@bobkatquilts.com
SUMMARY:PopStar by Quiltworx - Zoom Class Series
DESCRIPTION:This is a newly released pattern and perfect for ALL quiltmakers!  From beginners to experienced foundation paper piecing quilters — you’ll love how quickly this quilt will come together.  In the process — learn all the techniques that make Quiltworx so special! (and addictive!) \nThe quilt finishes at 50″ x 50″ — but with multiple expansion options — you can take it 71″ – 72″ square\, 93″ square or even larger!  The introductory class session will review all of these options with you. \nClass will involve 4 live Zoom sessions — with a number of recorded instructional videos to support your sewing.  From planning your colors\, to cutting your fabrics to sewing your units and then final assembly — you will have guidance and support from start to finish! \nLive class dates are:  \nIntroduction to pattern/quilt:  Friday\, April 3 – 10:00 AM – Noon \nClass #2 – Friday\, April 24 – 10:00 AM – Noon \nClass #3 – Friday\, May 15 – 10:00 AM – Noon \nClass #4 – Friday\, June 19 – 10:00 AM – Noon \nIn addition to FULL video support — I will be available by email\, phone or one-on-one Zoom calls — but always start with an email!  Be as detailed as possible with your questions and I will work with you to keep you sewing! \nEmail me at kathy@bobkatquilts.com if you have any questions!  I hope you’ll join me!
URL:https://bobkatquilts.com/event/popstar-by-quiltworx-zoom-class-series/
LOCATION:Your Sewing Room via Zoom!
CATEGORIES:Multi-Day,Online,Zoom
ATTACH;FMTTYPE=image/jpeg:https://bobkatquilts.com/wp-content/uploads/2026/01/PopStar.jpg
END:VEVENT
BEGIN:VEVENT
DTSTART;TZID=America/Chicago:20260623T100000
DTEND;TZID=America/Chicago:20260623T120000
DTSTAMP:20260421T124635
CREATED:20260128T185601Z
LAST-MODIFIED:20260128T190429Z
UID:10000183-1782208800-1782216000@bobkatquilts.com
SUMMARY:Midnight Gala by Quiltworx - Zoom Series
DESCRIPTION:Midnight Gala is more than a quilt pattern; it’s a celebration of seasonal beauty\, thoughtful design\, and the joy of craftsmanship. Whether you’re drawn to its geometry\, its evocative color story\, or the legacy of the Niemeyer family’s artistry\, this quilt is ready to become your next heirloom. \nThis quilt captures the essence of autumn with a rich\, spicy palette that evokes cinnamon sticks\, clove pods\, and steaming mugs of mulled apple cider. At its center lies a striking motif reminiscent of a sliced apple core\, radiating outward in symmetrical layers that invite both admiration and introspection.  As designed — pattern uses the Quiltworx Strip Set:  Apple Cider but you can take it in any direction you choose.  Let Quiltster allow you to play and help you see and realize your vision. \nQuilt measures 96″ x 96″ and can be expanded. \nClass will meet live for 5 sessions and in addition\, multiple sewing demonstration videos will be available.  Live sessions will be for checking in\, answering questions\, etc.  The sewing instruction will mostly be in the pre-recorded sessions.  From planning your colors\, to cutting your fabrics to sewing your units and then final assembly — you will have guidance and support from start to finish!  Class will remain accessible indefinitely. \nIntroduction to Pattern\, Fabrics\, etc…  Tuesday\, June 23rd – 10:00 AM – noon \nClass #2:  Tuesday\, June 30th – 10:00 AM – noon \nClass #3:  Tuesday\, July 21 – – 10:00 AM – noon \nClass #4:  Tuesday\, August 11 – 10:00 AM – noon \nClass #5:  Tuesday\, September 29 – 10:00 AM – noon  (subject to change) \nIdeally — you’ll have plenty of time to sew between sessions so you’ll be more than ready to assemble by the end of September! \nIn addition to FULL video support — I will be available by email\, phone or one-on-one Zoom calls — but always start with an email!  Be as detailed as possible with your questions and I will work with you to keep you sewing! \nChoose class only or with discounted pattern which retails for $120. \nEmail me at kathy@bobkatquilts.com if you have any questions!  I hope you’ll join me!
URL:https://bobkatquilts.com/event/midnight-gala-by-quiltworx-zoom-series/
LOCATION:Your Sewing Room via Zoom!
CATEGORIES:Multi-Day,Zoom
ATTACH;FMTTYPE=image/jpeg:https://bobkatquilts.com/wp-content/uploads/2026/01/Midnight-Gala.jpg
END:VEVENT
END:VCALENDAR