BEGIN:VCALENDAR
VERSION:2.0
PRODID:-//Bobkatquilts.com - ECPv6.15.20//NONSGML v1.0//EN
CALSCALE:GREGORIAN
METHOD:PUBLISH
X-WR-CALNAME:Bobkatquilts.com
X-ORIGINAL-URL:https://bobkatquilts.com
X-WR-CALDESC:Events for Bobkatquilts.com
REFRESH-INTERVAL;VALUE=DURATION:PT1H
X-Robots-Tag:noindex
X-PUBLISHED-TTL:PT1H
BEGIN:VTIMEZONE
TZID:America/Chicago
BEGIN:DAYLIGHT
TZOFFSETFROM:-0600
TZOFFSETTO:-0500
TZNAME:CDT
DTSTART:20240310T080000
END:DAYLIGHT
BEGIN:STANDARD
TZOFFSETFROM:-0500
TZOFFSETTO:-0600
TZNAME:CST
DTSTART:20241103T070000
END:STANDARD
BEGIN:DAYLIGHT
TZOFFSETFROM:-0600
TZOFFSETTO:-0500
TZNAME:CDT
DTSTART:20250309T080000
END:DAYLIGHT
BEGIN:STANDARD
TZOFFSETFROM:-0500
TZOFFSETTO:-0600
TZNAME:CST
DTSTART:20251102T070000
END:STANDARD
BEGIN:DAYLIGHT
TZOFFSETFROM:-0600
TZOFFSETTO:-0500
TZNAME:CDT
DTSTART:20260308T080000
END:DAYLIGHT
BEGIN:STANDARD
TZOFFSETFROM:-0500
TZOFFSETTO:-0600
TZNAME:CST
DTSTART:20261101T070000
END:STANDARD
END:VTIMEZONE
BEGIN:VEVENT
DTSTART;VALUE=DATE:20250603
DTEND;VALUE=DATE:20250609
DTSTAMP:20260421T205824
CREATED:20240513T155058Z
LAST-MODIFIED:20250329T033601Z
UID:10000163-1748908800-1749427199@bobkatquilts.com
SUMMARY:Shipshewana Spring 2025 - Quiltworx Technique of the Month Retreat
DESCRIPTION:Sorry we are at capacity for Spring 2025! \nWe’re now taking reservations for our Autumn  Shipshewana Retreat –\n October 7 – 12\, 2025!   See the new listing.\nDon’t miss your opportunity to visit Shipshewana in Late Spring 2025 to work on  your Quiltworx Technique of the Month Quilt!  Jungle Magnolia!! You know you’ll want to make it!  Or bring any pattern you wish to sew! \nWe are adding an extra day this year — so we’ll be retreating from Tuesday\, June 3 (start sewing at 10:00 AM) and we will sew until Sunday afternoon (4:00 PM).  THAT IS 6 FULL DAYS OF SEWING!!!   That week is also the week of the nearby Elkhart Quilt Show — so you can sneak away one day to take in the show if you wish!  It’s about a 20 minute drive.  Not to mention a visit to Yoder Department Store\, The Cotton Corner\, Lolly’s\,  Essenhaus Quilt Shop\, Caroline’s\, Zincks and more!  And don’t forget your stop at JoJo’s Pretzels or Ben’s Pretzels!  Yummy is the word of the day! \nAs always — I’ll start the instruction on Zoom in February — and you can join me then and get started or wait until the retreat to get going.  The full Zoom Series is included with your retreat registration!  A $300+ value! \nThe Zoom series is available independently as well.  You can choose RETREAT ONLY or ZOOM ONLY or you can purchase your pattern with your registration (I discount them with registration!) for either the retreat or the Zoom Series.  Since the pattern was released — Certified Shops have been offering KITS — which can include fabric only or fabric with pattern – make sure you don’t purchase 2 patterns!   I can also help you custom design your own colorway using Quiltster if you want your own unique quilt.  Or join me and learn how to use Quiltster to design your own! \nDeposit will be refundable through January 31st\, 2025 less a 4% processing (mostly what is withheld by the payment processor.)   Reserve your hotel rooms independently at The Farmstead Inn or plan to stay at the nearby campground or check out some of the nearby VRBO / B&B options.  There are other hotels a little less pricey you may want to check out.  You do NOT need to stay at the hotel to participate in the Retreat. \nI hope you’ll consider joining me.  With the Zoom support added — this is a GREAT value — 6 days of sewing and the full Zoom Series (and my support from start to finish regardless of your timeline). \n\n \n 
URL:https://bobkatquilts.com/event/shipshewana-spring-2025-quiltworx-technique-of-the-month-retreat/
LOCATION:Farmstead Inn\, Shipshewana\, IN\, 370 S Van Buren St\, Shipshewana\, IN\, 46565\, United States
CATEGORIES:Retreat,Workshop
ATTACH;FMTTYPE=image/webp:https://bobkatquilts.com/wp-content/uploads/2024/05/Shipshewana-Sold-Out.webp
GEO:41.6721074;-85.5817323
X-APPLE-STRUCTURED-LOCATION;VALUE=URI;X-ADDRESS=Farmstead Inn Shipshewana IN 370 S Van Buren St Shipshewana IN 46565 United States;X-APPLE-RADIUS=500;X-TITLE=370 S Van Buren St:geo:-85.5817323,41.6721074
END:VEVENT
END:VCALENDAR