BEGIN:VCALENDAR
VERSION:2.0
PRODID:-//Bobkatquilts.com - ECPv6.15.20//NONSGML v1.0//EN
CALSCALE:GREGORIAN
METHOD:PUBLISH
X-WR-CALNAME:Bobkatquilts.com
X-ORIGINAL-URL:https://bobkatquilts.com
X-WR-CALDESC:Events for Bobkatquilts.com
REFRESH-INTERVAL;VALUE=DURATION:PT1H
X-Robots-Tag:noindex
X-PUBLISHED-TTL:PT1H
BEGIN:VTIMEZONE
TZID:America/New_York
BEGIN:DAYLIGHT
TZOFFSETFROM:-0500
TZOFFSETTO:-0400
TZNAME:EDT
DTSTART:20160313T070000
END:DAYLIGHT
BEGIN:STANDARD
TZOFFSETFROM:-0400
TZOFFSETTO:-0500
TZNAME:EST
DTSTART:20161106T060000
END:STANDARD
BEGIN:DAYLIGHT
TZOFFSETFROM:-0500
TZOFFSETTO:-0400
TZNAME:EDT
DTSTART:20170312T070000
END:DAYLIGHT
BEGIN:STANDARD
TZOFFSETFROM:-0400
TZOFFSETTO:-0500
TZNAME:EST
DTSTART:20171105T060000
END:STANDARD
BEGIN:DAYLIGHT
TZOFFSETFROM:-0500
TZOFFSETTO:-0400
TZNAME:EDT
DTSTART:20180311T070000
END:DAYLIGHT
BEGIN:STANDARD
TZOFFSETFROM:-0400
TZOFFSETTO:-0500
TZNAME:EST
DTSTART:20181104T060000
END:STANDARD
END:VTIMEZONE
BEGIN:VEVENT
DTSTART;TZID=America/New_York:20171109T190000
DTEND;TZID=America/New_York:20171109T203000
DTSTAMP:20260421T055214
CREATED:20171108T031325Z
LAST-MODIFIED:20171113T023340Z
UID:10000049-1510254000-1510259400@bobkatquilts.com
SUMMARY:Lecture & Trunk Show - How to Eat an Elephant
DESCRIPTION:Kathy will share with you her more than 30 Quiltworx foundation paper pieced quilts – from placemats to heirloom king-sized quilts! Some are still flimsies – but that’s a good thing because you can even see the back of the paper pieced projects! \nShe will also explain the Quiltworx process which will help take the mystery out of these complex quilts – and you will see that anyone and everyone is capable of making one of their own… when you work at it one small “bite at a time”!
URL:https://bobkatquilts.com/event/lecture-trunk-show-how-to-eat-an-elephant/
CATEGORIES:Presentation,Trunk Show
ATTACH;FMTTYPE=image/jpeg:https://bobkatquilts.com/wp-content/uploads/2017/11/b1f95984a923e2a6cc8a9b8da8b9c283.jpg
END:VEVENT
END:VCALENDAR