BEGIN:VCALENDAR
VERSION:2.0
PRODID:-//Bobkatquilts.com - ECPv6.15.20//NONSGML v1.0//EN
CALSCALE:GREGORIAN
METHOD:PUBLISH
X-WR-CALNAME:Bobkatquilts.com
X-ORIGINAL-URL:https://bobkatquilts.com
X-WR-CALDESC:Events for Bobkatquilts.com
REFRESH-INTERVAL;VALUE=DURATION:PT1H
X-Robots-Tag:noindex
X-PUBLISHED-TTL:PT1H
BEGIN:VTIMEZONE
TZID:America/Chicago
BEGIN:DAYLIGHT
TZOFFSETFROM:-0600
TZOFFSETTO:-0500
TZNAME:CDT
DTSTART:20240310T080000
END:DAYLIGHT
BEGIN:STANDARD
TZOFFSETFROM:-0500
TZOFFSETTO:-0600
TZNAME:CST
DTSTART:20241103T070000
END:STANDARD
BEGIN:DAYLIGHT
TZOFFSETFROM:-0600
TZOFFSETTO:-0500
TZNAME:CDT
DTSTART:20250309T080000
END:DAYLIGHT
BEGIN:STANDARD
TZOFFSETFROM:-0500
TZOFFSETTO:-0600
TZNAME:CST
DTSTART:20251102T070000
END:STANDARD
BEGIN:DAYLIGHT
TZOFFSETFROM:-0600
TZOFFSETTO:-0500
TZNAME:CDT
DTSTART:20260308T080000
END:DAYLIGHT
BEGIN:STANDARD
TZOFFSETFROM:-0500
TZOFFSETTO:-0600
TZNAME:CST
DTSTART:20261101T070000
END:STANDARD
END:VTIMEZONE
BEGIN:VEVENT
DTSTART;TZID=America/Chicago:20250402T103000
DTEND;TZID=America/Chicago:20250402T163000
DTSTAMP:20260422T013310
CREATED:20241210T213316Z
LAST-MODIFIED:20241210T213316Z
UID:10000170-1743589800-1743611400@bobkatquilts.com
SUMMARY:Desert Sky by Quiltworx
DESCRIPTION:Looking for a fun quilt?  Are you new to foundation paper piecing?  This is a great option because you’ll learn the fundamentals of Quiltworx patterns (like cutting / organizing)\, the basic paper piecing techniques and even how easy curved piecing can be!  This is a “1 block” quilt — so once you master that block — you just make a few more of them!   \nClass is hosted by Honey Bee Quilt Store in Austin\, Texas.  Class will meet on 2 days – back-to-back!  So you only need to load up once!  Classes meet from 10:30 AM – 4:30 PM on Wednesday\, April 2 and Thursday\, April 3\, 2025. \nAs always — a pre-class video will help you arrive ready to sew!  And video support after the class concludes ensures your quilt will be finished!  Quilt pattern as designed finishes at 48″ x 54″ but could easilly be enlarged!  Just email me to ask how! \n  \nVisit https://www.honeybeequiltstore.com/ to register or email me for more information.
URL:https://bobkatquilts.com/event/desert-sky-by-quiltworx/2025-04-02/
LOCATION:Honey Bee Quilt Store\, Austin\, Texas\, 78750\, United States
CATEGORIES:HoneyBee
ATTACH;FMTTYPE=image/jpeg:https://bobkatquilts.com/wp-content/uploads/2017/06/Desert-Sky.jpg
GEO:30.4549224;-97.8058432
END:VEVENT
BEGIN:VEVENT
DTSTART;TZID=America/Chicago:20250403T103000
DTEND;TZID=America/Chicago:20250403T163000
DTSTAMP:20260422T013310
CREATED:20241210T213316Z
LAST-MODIFIED:20241210T213316Z
UID:10000171-1743676200-1743697800@bobkatquilts.com
SUMMARY:Desert Sky by Quiltworx
DESCRIPTION:Looking for a fun quilt?  Are you new to foundation paper piecing?  This is a great option because you’ll learn the fundamentals of Quiltworx patterns (like cutting / organizing)\, the basic paper piecing techniques and even how easy curved piecing can be!  This is a “1 block” quilt — so once you master that block — you just make a few more of them!   \nClass is hosted by Honey Bee Quilt Store in Austin\, Texas.  Class will meet on 2 days – back-to-back!  So you only need to load up once!  Classes meet from 10:30 AM – 4:30 PM on Wednesday\, April 2 and Thursday\, April 3\, 2025. \nAs always — a pre-class video will help you arrive ready to sew!  And video support after the class concludes ensures your quilt will be finished!  Quilt pattern as designed finishes at 48″ x 54″ but could easilly be enlarged!  Just email me to ask how! \n  \nVisit https://www.honeybeequiltstore.com/ to register or email me for more information.
URL:https://bobkatquilts.com/event/desert-sky-by-quiltworx/2025-04-03/
LOCATION:Honey Bee Quilt Store\, Austin\, Texas\, 78750\, United States
CATEGORIES:HoneyBee
ATTACH;FMTTYPE=image/jpeg:https://bobkatquilts.com/wp-content/uploads/2017/06/Desert-Sky.jpg
GEO:30.4549224;-97.8058432
END:VEVENT
BEGIN:VEVENT
DTSTART;TZID=America/Chicago:20250417T103000
DTEND;TZID=America/Chicago:20250417T163000
DTSTAMP:20260422T013310
CREATED:20241210T214509Z
LAST-MODIFIED:20241210T214750Z
UID:10000172-1744885800-1744907400@bobkatquilts.com
SUMMARY:Curve Crazy!
DESCRIPTION:Does sewing curves make you uneasy?  Well\, by the time  you finish this project you’ll be a pro! \nUtilizing specialized acrylic templates\, each fabric piece is precisely cut and then you sew them together.  To be honest — it was harder to cut the fabrics than to sew them together!  LOL \nJoin me at Honey Bee Quilt Store in Austin\, Texas on Thursday\, April 17 from 10:30 AM – 4:30 PM and learn how quickly this quilt will go together.  You’ll have some rectangles cut before class — but the precision cutting we’ll do in class.  Then we’ll sew!  Truly you’ll be amazed at how easy these curves come together.  Once your blocks are complete — standard quilt construction (blocks –> rows) is how you finish! \nA great stashbuster!  You can create an organized quilt in a rainbow sequence… work with patriotic colors\, personal favorites or just raid you stash!! \nThursday\, April 17 — 10:30 AM – 4:30 PM \n \nNote:  Class fee includes templates/pattern. \nVisit https://www.honeybeequiltstore.com/ to register or email me for more information.
URL:https://bobkatquilts.com/event/curve-crazy/
LOCATION:Honey Bee Quilt Store\, Austin\, Texas\, 78750\, United States
CATEGORIES:HoneyBee
ATTACH;FMTTYPE=image/jpeg:https://bobkatquilts.com/wp-content/uploads/2024/12/Curve-Crazy.jpg
GEO:30.4549224;-97.8058432
END:VEVENT
END:VCALENDAR